BEGIN:VCALENDAR
VERSION:2.0
PRODID:-//Foyer des Arts - ECPv4.9.10//NONSGML v1.0//EN
CALSCALE:GREGORIAN
METHOD:PUBLISH
X-WR-CALNAME:Foyer des Arts
X-ORIGINAL-URL:https://foyerdesarts.lu
X-WR-CALDESC:Évènements pour Foyer des Arts
BEGIN:VTIMEZONE
TZID:Europe/Luxembourg
BEGIN:DAYLIGHT
TZOFFSETFROM:+0100
TZOFFSETTO:+0200
TZNAME:CEST
DTSTART:20190331T010000
END:DAYLIGHT
BEGIN:STANDARD
TZOFFSETFROM:+0200
TZOFFSETTO:+0100
TZNAME:CET
DTSTART:20191027T010000
END:STANDARD
END:VTIMEZONE
BEGIN:VEVENT
DTSTART;TZID=Europe/Luxembourg:20190904T093000
DTEND;TZID=Europe/Luxembourg:20190906T170000
DTSTAMP:20200122T203050
CREATED:20190129T134916Z
LAST-MODIFIED:20190129T140823Z
UID:11281-1567589400-1567789200@foyerdesarts.lu
SUMMARY:Watercolour Workshop -  Stan MILLER - First time in Luxembourg - 4/5/6 September 2019
DESCRIPTION:« Tous les stages \n3 days Workshop:  » Painting the Portrait and Landscape in Watercolor » \n(level: beginner with some experience to advanced)\n \nDate: 4/5/6 september 2019 – from 10:00 to 16:00 (45 mn lunch break) \nStudio opening hours 9:30 to 17:00\n \nPrice: 390€ (material and lunch not included – bring your own)\nMinimum of participants 10 – Max. 15\n \nWill follow the list of furniture and material.\n \nDescription:\nStan Miller has been a professional painter in watercolor and egg tempera for more than thirty years. The artist has exhibited in numerous exhibitions\, galleries and museums. A signature member of the American Watercolor Society as well as an AWS award winner\, Stan Miller also teaches workshops and masterclasses in the United States and around the world.  \n  \n  \n \n \n\n\nJe m’inscris !\n\n\n
URL:https://foyerdesarts.lu/stage/workshop-stan-miller-for-the-first-time-in-luxemburg-4-5-6-september-2019
LOCATION:Foyer des Arts\,  15\, rue des Scillas\, Howald\, L-2529\, Luxembourg
CATEGORIES:Stage adulte
ATTACH;FMTTYPE=image/png:https://foyerdesarts.lu/wp-content/uploads/2019/01/Capture-d’écran-2018-12-10-à-17.29.42.png
END:VEVENT
END:VCALENDAR