BEGIN:VCALENDAR
VERSION:2.0
PRODID:-//Foyer des Arts - ECPv4.9.10//NONSGML v1.0//EN
CALSCALE:GREGORIAN
METHOD:PUBLISH
X-WR-CALNAME:Foyer des Arts
X-ORIGINAL-URL:https://foyerdesarts.lu
X-WR-CALDESC:Évènements pour Foyer des Arts
BEGIN:VTIMEZONE
TZID:Europe/Luxembourg
BEGIN:DAYLIGHT
TZOFFSETFROM:+0100
TZOFFSETTO:+0200
TZNAME:CEST
DTSTART:20190331T010000
END:DAYLIGHT
BEGIN:STANDARD
TZOFFSETFROM:+0200
TZOFFSETTO:+0100
TZNAME:CET
DTSTART:20191027T010000
END:STANDARD
END:VTIMEZONE
BEGIN:VEVENT
DTSTART;TZID=Europe/Luxembourg:20190715T090000
DTEND;TZID=Europe/Luxembourg:20190719T173000
DTSTAMP:20200122T202850
CREATED:20190402T141427Z
LAST-MODIFIED:20190402T141427Z
UID:11442-1563181200-1563557400@foyerdesarts.lu
SUMMARY:Vacances artistiques - Juillet 2019
DESCRIPTION: « Tous les stages \nEnfants de 8 à 12 ans – Du lundi au vendredi 9h à 17h30 – Prix : 320€ ttc  \n  \n \nAu programme:  Notre équipe accueillera vos enfants dans divers ateliers collectifs tout au long de la semaine: atelier cuisine\, dessin\, bricolage\, DIY\, mosaïque\, musique-percussions\, chant/enregistrement\, sorties en forêt (uniquement printemps-été selon météo)\, théâtre\, jeux collectifs… (pour un groupe de 12 enfants maximum) \n\nInformations pratiques et consignes:\n \n\nPrévoir collations\, boissons et pique-nique dans un sac à dos – Un tablier ou des vieux vêtements pouvant être souillés – vêtement de pluie\, casquette ou chapeau suivant la météo…\nLe stage peut être annulé si le nombre d’inscrits est inférieur à 6 enfants\nL’inscription se fera uniquement via notre formulaire d’inscription en ligne et ne sera validée qu’après confirmation par mail et règlement de la totalité du montant du stage\nUn forfait matériel et administratif de 20.00€ est inclus dans le prix\nDurant le stage\, les parents ou autres membres de la famille ne sont pas admis\nSur la durée du stage\, les parents (ou tuteur légal) autorisent leur(s) enfant(s) à participer aux activités «hors les murs» ne nécessitant aucun transport particulier\nLes téléphones portables ou tout autre objet électronique seront proscrits\nLe Foyer des Arts décline toutes responsabilités en cas de perte\, vol ou détérioration d’effets personnels et ne pourra être tenu responsable des accidents corporels pouvant survenir dans l’exercice des diverses activités\nL’accueil des enfants participants au stage se fera à partir de 9h00 et les parents (ou toute autre personne désignée par eux) seront priés de les récupérer à 17h30 précises \nLes activités démarreront à 9h30 et s’achèveront à 17h00\nDes sorties culturelles dans nos musées luxembourgeois pourrons être envisagées afin de compléter le programme pédagogique de la semaine (une décharge à signer vous sera soumise pour nos déplacement en transport public)\n\n \n POUR INFORMATION :\n Confirmation et validation définitive de chaque stage 10 jours avant sa date de début avec l’envoi de la facture par mail. \n  \nLes Semaines Artistiques 2019: \nSemaine 1 : Avril 08/09/10/11/12\nSemaine 2 : Mai 27/28/29\nSemaine 3 : Juillet 8/9/10/11/12\nSemaine 4 : Juillet 15/16/17/18/19\nSemaine 5 : Août 26/27/28/29/30\nSemaine 6 : Septembre 9/10/11/12/13 \n\n\nJe m’inscris !\n\n\n \n
URL:https://foyerdesarts.lu/stage/vacances-artistiques-juillet-2019
LOCATION:Foyer des Arts\,  15\, rue des Scillas\, Howald\, L-2529\, Luxembourg
CATEGORIES:Stage enfant
ATTACH;FMTTYPE=image/png:https://foyerdesarts.lu/wp-content/uploads/2018/01/Capture-d’écran-2018-05-07-à-14.11.08.png
END:VEVENT
END:VCALENDAR