BEGIN:VCALENDAR
VERSION:2.0
PRODID:-//Foyer des Arts - ECPv4.9.10//NONSGML v1.0//EN
CALSCALE:GREGORIAN
METHOD:PUBLISH
X-WR-CALNAME:Foyer des Arts
X-ORIGINAL-URL:https://foyerdesarts.lu
X-WR-CALDESC:Évènements pour Foyer des Arts
BEGIN:VTIMEZONE
TZID:Europe/Luxembourg
BEGIN:DAYLIGHT
TZOFFSETFROM:+0100
TZOFFSETTO:+0200
TZNAME:CEST
DTSTART:20180325T010000
END:DAYLIGHT
BEGIN:STANDARD
TZOFFSETFROM:+0200
TZOFFSETTO:+0100
TZNAME:CET
DTSTART:20181028T010000
END:STANDARD
END:VTIMEZONE
BEGIN:VEVENT
DTSTART;TZID=Europe/Luxembourg:20180908T140000
DTEND;TZID=Europe/Luxembourg:20180908T170000
DTSTAMP:20200122T205543
CREATED:20180424T084448Z
LAST-MODIFIED:20180903T085045Z
UID:10354-1536415200-1536426000@foyerdesarts.lu
SUMMARY:Harmonica - 8 septembre 2018
DESCRIPTION: « Tous les stages \nHoraires: 14H00 à 17H00 \nPublic: Tous niveaux\, àpd 16 ans (4 participants minimum et 8 participants maximum) \nDescriptif du stage: Travail du rythme\, respiration et souffle. Apprenez à jouer quelques airs de grands standards Folks. Pour les plus courageux\, le blues et le rock seront abordés. Venez souffler avec Yan ! L’harmonica est un instrument ludique à découvir. L’apprentissage est un intuitif et convient aux adultes comme aux ados. \nMatériel: Harmonica diatonique en Do (important / valeur 30€ environ) + un cahier et stylo. \nPrésentation du professeur: Bercé par la Pop-folk des Beatles\, Cat Stevens et Bob Dylan\, Yannick s’initie à la guitare et l’harmonica dès son plus jeune âge. Il étudie les musiques actuelles à la Music Academy International de Nancy où il en sort diplômé en 2006. Depuis il transmet son savoir et anime des ateliers musicaux dans diverses structures de la Grande région. Yannick acquiert en grande partie son expérience en jouant dans différents groupes. \n  \nPOUR INFORMATION :\nFermeture administrative du 1er au 19 août 2018 inclus.\nConfirmation et validation définitive du stage à partir du 21 août 2018. \n\n\nJe m’inscris !\n\n\n \n
URL:https://foyerdesarts.lu/stage/harmonica-8-septembre-2018
LOCATION:Foyer des Arts\,  15\, rue des Scillas\, Howald\, L-2529\, Luxembourg
ATTACH;FMTTYPE=image/jpeg:https://foyerdesarts.lu/wp-content/uploads/2013/01/music_by_alethiometergal.jpg
END:VEVENT
END:VCALENDAR