BEGIN:VCALENDAR
VERSION:2.0
PRODID:-//Foyer des Arts - ECPv4.9.10//NONSGML v1.0//EN
CALSCALE:GREGORIAN
METHOD:PUBLISH
X-WR-CALNAME:Foyer des Arts
X-ORIGINAL-URL:https://foyerdesarts.lu
X-WR-CALDESC:Évènements pour Foyer des Arts
BEGIN:VTIMEZONE
TZID:Europe/Luxembourg
BEGIN:DAYLIGHT
TZOFFSETFROM:+0100
TZOFFSETTO:+0200
TZNAME:CEST
DTSTART:20190331T010000
END:DAYLIGHT
BEGIN:STANDARD
TZOFFSETFROM:+0200
TZOFFSETTO:+0100
TZNAME:CET
DTSTART:20191027T010000
END:STANDARD
END:VTIMEZONE
BEGIN:VEVENT
DTSTART;TZID=Europe/Luxembourg:20190413T130000
DTEND;TZID=Europe/Luxembourg:20190413T150000
DTSTAMP:20200122T203849
CREATED:20190314T111642Z
LAST-MODIFIED:20190314T121253Z
UID:8873-1555160400-1555167600@foyerdesarts.lu
SUMMARY:Guitare funk 13 avril 2019
DESCRIPTION: « Tous les stages \nHoraires: De 13H00 à 15H00  \nPublic: Intermédiaire et confirmé (ados et adultes)\n\nDescriptif du stage: Travail des rythmes et accords funk du groove et de quelques titres funky incontournables. Improvisation et mise en place rythmique. Adapter son jeu avec des effets. \nMatériel: sur place (guitares Ortega\, Fender\, Ibanez) ou apporter sa guitare. \nPrésentation du professeur: Paul Kiss enseigne la guitare depuis près de 20 ans\, ancien professeur des écoles de guitare Ibanez\, intervenant formateur à la Music Academy International de Nancy\, compositeur et musicien professionnel (album-musique de film- ingénieur du son)\, il vous propose un cours de guitare du classique au rock en passant par le jazz \, le funk\, la fusion\, le reggae\, la pop ou le blues. \nSite web :kissrecordingstudio.com \nLien soundcloud : soundcloud.com/paulkiss \n\n\nJe m’inscris !\n\n\n \n
URL:https://foyerdesarts.lu/stage/guitare-funk-3
LOCATION:Foyer des Arts\,  15\, rue des Scillas\, Howald\, L-2529\, Luxembourg
CATEGORIES:Stage ados,Stage adulte
ATTACH;FMTTYPE=image/jpeg:https://foyerdesarts.lu/wp-content/uploads/2017/01/guitare-funk.jpg
END:VEVENT
END:VCALENDAR