BEGIN:VCALENDAR
VERSION:2.0
PRODID:-//Foyer des Arts - ECPv4.9.10//NONSGML v1.0//EN
CALSCALE:GREGORIAN
METHOD:PUBLISH
X-WR-CALNAME:Foyer des Arts
X-ORIGINAL-URL:https://foyerdesarts.lu
X-WR-CALDESC:Évènements pour Foyer des Arts
BEGIN:VTIMEZONE
TZID:Europe/Luxembourg
BEGIN:DAYLIGHT
TZOFFSETFROM:+0100
TZOFFSETTO:+0200
TZNAME:CEST
DTSTART:20180325T010000
END:DAYLIGHT
BEGIN:STANDARD
TZOFFSETFROM:+0200
TZOFFSETTO:+0100
TZNAME:CET
DTSTART:20181028T010000
END:STANDARD
END:VTIMEZONE
BEGIN:VEVENT
DTSTART;TZID=Europe/Luxembourg:20180911T183000
DTEND;TZID=Europe/Luxembourg:20180911T203000
DTSTAMP:20200122T204927
CREATED:20180726T102931Z
LAST-MODIFIED:20180903T085159Z
UID:10873-1536690600-1536697800@foyerdesarts.lu
SUMMARY:Danse orientale - 11 septembre 2018
DESCRIPTION: « Tous les stages \nHoraires: 18H30 à 20H30 \nPublic: Adultes\, tous niveaux \nDescriptif du stage: La danse orientale est un magnifique spectacle de lumière et de paillettes\, un mélange de grâce et de sensualité\, de mouvements subtiles en communion avec la mélodie envoûtante de la musique et le rythme entraînant de la tabla et du tambourin. La danseuse qui maîtrise cet art exprime à travers son corps ses émotions et charme son public\, faisant virevolter ses voiles et tinter malicieusement entre ses doigts ses cymbalettes. Grande ou petite\, fine ou ronde\, peu importe… Cette pratique accepte le corps tel qu’il est… L’objectif premier est de montrer que la danse orientale est surtout un art\, noble et ancestral. C’est une danse exceptionnelle par le bien-être qu’elle peut apporter\, tant physique que psychologique. Basée sur les différentes parties de notre corps de manière indépendante ou isolée\, elle éveille à une meilleure connaissance du corps : en outre la danse orientale assouplit\, détend\, tout en restant avant tout un exercice physique parfois intense. \nMatériel: Prévu sur place \nPrésentation du professeur: Cynthia vous transmettra sa passion pour la danse orientale. Elle ne cesse de se former avec des professeurs de renommée internationale comme Zaza Hassan\, Gemma Mellouk\, Leila Jouvana\, Tamallyn Dallal… \n\n\nJe m’inscris !\n\n\n \n
URL:https://foyerdesarts.lu/stage/danse-orientale-11-septembre-2018
LOCATION:Foyer des Arts\,  15\, rue des Scillas\, Howald\, L-2529\, Luxembourg
ATTACH;FMTTYPE=image/jpeg:https://foyerdesarts.lu/wp-content/uploads/2017/04/danse-orientale.jpeg
END:VEVENT
END:VCALENDAR