BEGIN:VCALENDAR
VERSION:2.0
PRODID:-//Foyer des Arts - ECPv4.9.10//NONSGML v1.0//EN
CALSCALE:GREGORIAN
METHOD:PUBLISH
X-WR-CALNAME:Foyer des Arts
X-ORIGINAL-URL:https://foyerdesarts.lu
X-WR-CALDESC:Évènements pour Foyer des Arts
BEGIN:VTIMEZONE
TZID:Europe/Luxembourg
BEGIN:DAYLIGHT
TZOFFSETFROM:+0100
TZOFFSETTO:+0200
TZNAME:CEST
DTSTART:20190331T010000
END:DAYLIGHT
BEGIN:STANDARD
TZOFFSETFROM:+0200
TZOFFSETTO:+0100
TZNAME:CET
DTSTART:20191027T010000
END:STANDARD
END:VTIMEZONE
BEGIN:VEVENT
DTSTART;TZID=Europe/Luxembourg:20190218T133000
DTEND;TZID=Europe/Luxembourg:20190222T153000
DTSTAMP:20200122T204633
CREATED:20180604T110220Z
LAST-MODIFIED:20190125T122214Z
UID:10470-1550496600-1550849400@foyerdesarts.lu
SUMMARY:Court métrage 18/19/20/21/22 Février 2019
DESCRIPTION: « Tous les stages \nHoraires: 13H30 à 15H30 \nPublic: de 10 à 14 ans (minimum 6 participants) \nDescriptif du stage: Tu as toujours rêvé de devenir acteur ? De te vêtir de costumes en tous genres ? D’incarner Harry Potter ou encore Alice au pays des merveilles ? Alors ce stage est fait pour toi ! Viens découvrir le monde du cinéma\, le travail d’équipe et surtout une aventure fun ! Comme au cinéma\, ton film sera diffusé sur grand écran à la fin de la semaine ! Alors c’est parti\, ne perd plus une minute et intègre notre équipe\, on attend plus que toi ! \nLien du trailer : https://youtu.be/LpVV5Ab3Ma0 \nMatériel: Prévu sur place \nPrésentation du professeur: Issue d’une famille d’artistes\, Sabrina a grandi sous les feux des projecteurs et de la scène. Autodidacte\, passionnée et véritable touche-à-tout entre photographie\, danse et courts métrages\, Sabrina est riche en expérience avec une vingtaine de courts métrages à son actif\, elle aime avant tout transmettre son savoir-faire et sa passion. \n\n\nJe m’inscris !\n\n\n \n
URL:https://foyerdesarts.lu/stage/court-metrage-18-19-20-21-22-fevrier-2019
LOCATION:Foyer des Arts\,  15\, rue des Scillas\, Howald\, L-2529\, Luxembourg
CATEGORIES:Stage ados
ATTACH;FMTTYPE=image/png:https://foyerdesarts.lu/wp-content/uploads/2018/06/Capture-d’écran-2018-06-04-à-12.55.16.png
END:VEVENT
END:VCALENDAR